BEGIN:VCALENDAR
VERSION:2.0
PRODID:-//Our Redeemer Lutheran Church - ECPv6.15.18//NONSGML v1.0//EN
CALSCALE:GREGORIAN
METHOD:PUBLISH
X-ORIGINAL-URL:https://ourredeemerquincy.org
X-WR-CALDESC:Events for Our Redeemer Lutheran Church
REFRESH-INTERVAL;VALUE=DURATION:PT1H
X-Robots-Tag:noindex
X-PUBLISHED-TTL:PT1H
BEGIN:VTIMEZONE
TZID:America/Chicago
BEGIN:DAYLIGHT
TZOFFSETFROM:-0600
TZOFFSETTO:-0500
TZNAME:CDT
DTSTART:20270314T080000
END:DAYLIGHT
BEGIN:STANDARD
TZOFFSETFROM:-0500
TZOFFSETTO:-0600
TZNAME:CST
DTSTART:20271107T070000
END:STANDARD
BEGIN:DAYLIGHT
TZOFFSETFROM:-0600
TZOFFSETTO:-0500
TZNAME:CDT
DTSTART:20280312T080000
END:DAYLIGHT
BEGIN:STANDARD
TZOFFSETFROM:-0500
TZOFFSETTO:-0600
TZNAME:CST
DTSTART:20281105T070000
END:STANDARD
BEGIN:DAYLIGHT
TZOFFSETFROM:-0600
TZOFFSETTO:-0500
TZNAME:CDT
DTSTART:20290311T080000
END:DAYLIGHT
BEGIN:STANDARD
TZOFFSETFROM:-0500
TZOFFSETTO:-0600
TZNAME:CST
DTSTART:20291104T070000
END:STANDARD
END:VTIMEZONE
BEGIN:VEVENT
DTSTART;TZID=America/Chicago:20280920T100000
DTEND;TZID=America/Chicago:20280920T110000
DTSTAMP:20260425T105606
CREATED:20260104T181047Z
LAST-MODIFIED:20260329T185632Z
UID:10001172-1853056800-1853060400@ourredeemerquincy.org
SUMMARY:Bible Study with Pastor Eden
DESCRIPTION:Streamed online.
URL:https://ourredeemerquincy.org/event/bible-study-with-pastor-eden-34/2028-09-20/
CATEGORIES:Bible Studies
END:VEVENT
BEGIN:VEVENT
DTSTART;TZID=America/Chicago:20280920T113000
DTEND;TZID=America/Chicago:20280920T113000
DTSTAMP:20260425T105606
CREATED:20260329T172503Z
LAST-MODIFIED:20260329T185828Z
UID:10001427-1853062200-1853062200@ourredeemerquincy.org
SUMMARY:Wednesday Worship with Holy Communion
DESCRIPTION:
URL:https://ourredeemerquincy.org/event/wednesday-worship-with-holy-communion-38/2028-09-20/
CATEGORIES:Worship Services
END:VEVENT
BEGIN:VEVENT
DTSTART;TZID=America/Chicago:20280920T140000
DTEND;TZID=America/Chicago:20280920T140000
DTSTAMP:20260425T105606
CREATED:20260329T191727Z
LAST-MODIFIED:20260329T191728Z
UID:10002523-1853071200-1853071200@ourredeemerquincy.org
SUMMARY:Banner Committee
DESCRIPTION:
URL:https://ourredeemerquincy.org/event/banner-committee-9-2/2028-09-20/
END:VEVENT
BEGIN:VEVENT
DTSTART;TZID=America/Chicago:20280920T180000
DTEND;TZID=America/Chicago:20280920T180000
DTSTAMP:20260425T105606
CREATED:20260330T210714Z
LAST-MODIFIED:20260330T210714Z
UID:10002784-1853085600-1853085600@ourredeemerquincy.org
SUMMARY:Elders Meeting
DESCRIPTION:
URL:https://ourredeemerquincy.org/event/elders-meeting-6/2028-09-20/
END:VEVENT
BEGIN:VEVENT
DTSTART;TZID=America/Chicago:20280920T190000
DTEND;TZID=America/Chicago:20280920T190000
DTSTAMP:20260425T105606
CREATED:20260330T211107Z
LAST-MODIFIED:20260330T211107Z
UID:10002844-1853089200-1853089200@ourredeemerquincy.org
SUMMARY:Church Council Meeting
DESCRIPTION:
URL:https://ourredeemerquincy.org/event/church-council-meeting-6/2028-09-20/
END:VEVENT
END:VCALENDAR