BEGIN:VCALENDAR
VERSION:2.0
PRODID:-//Our Redeemer Lutheran Church - ECPv6.15.18//NONSGML v1.0//EN
CALSCALE:GREGORIAN
METHOD:PUBLISH
X-ORIGINAL-URL:https://ourredeemerquincy.org
X-WR-CALDESC:Events for Our Redeemer Lutheran Church
REFRESH-INTERVAL;VALUE=DURATION:PT1H
X-Robots-Tag:noindex
X-PUBLISHED-TTL:PT1H
BEGIN:VTIMEZONE
TZID:America/Chicago
BEGIN:DAYLIGHT
TZOFFSETFROM:-0600
TZOFFSETTO:-0500
TZNAME:CDT
DTSTART:20240310T080000
END:DAYLIGHT
BEGIN:STANDARD
TZOFFSETFROM:-0500
TZOFFSETTO:-0600
TZNAME:CST
DTSTART:20241103T070000
END:STANDARD
BEGIN:DAYLIGHT
TZOFFSETFROM:-0600
TZOFFSETTO:-0500
TZNAME:CDT
DTSTART:20250309T080000
END:DAYLIGHT
BEGIN:STANDARD
TZOFFSETFROM:-0500
TZOFFSETTO:-0600
TZNAME:CST
DTSTART:20251102T070000
END:STANDARD
BEGIN:DAYLIGHT
TZOFFSETFROM:-0600
TZOFFSETTO:-0500
TZNAME:CDT
DTSTART:20260308T080000
END:DAYLIGHT
BEGIN:STANDARD
TZOFFSETFROM:-0500
TZOFFSETTO:-0600
TZNAME:CST
DTSTART:20261101T070000
END:STANDARD
END:VTIMEZONE
BEGIN:VEVENT
DTSTART;TZID=America/Chicago:20251224T190000
DTEND;TZID=America/Chicago:20251224T190000
DTSTAMP:20260423T192144
CREATED:20251130T193556Z
LAST-MODIFIED:20251130T193556Z
UID:10000387-1766602800-1766602800@ourredeemerquincy.org
SUMMARY:Christmas Eve | Children's Christmas Program
DESCRIPTION:Celebrate with us the birth of our Lord Jesus Christ!
URL:https://ourredeemerquincy.org/event/christmas-eve-childrens-christmas-program/
CATEGORIES:Worship Services
END:VEVENT
BEGIN:VEVENT
DTSTART;TZID=America/Chicago:20251224T210000
DTEND;TZID=America/Chicago:20251224T210000
DTSTAMP:20260423T192144
CREATED:20251130T193629Z
LAST-MODIFIED:20251130T193629Z
UID:10000388-1766610000-1766610000@ourredeemerquincy.org
SUMMARY:Christmas Eve Candlelight Service
DESCRIPTION:Celebrate with us the birth of our Lord Jesus Christ!
URL:https://ourredeemerquincy.org/event/christmas-eve-candlelight-service-2/
CATEGORIES:Worship Services
END:VEVENT
END:VCALENDAR